BEGIN:VCALENDAR
VERSION:2.0
PRODID:-//Montessori Gardens Children’s House - ECPv5.1.2//NONSGML v1.0//EN
CALSCALE:GREGORIAN
METHOD:PUBLISH
X-WR-CALNAME:Montessori Gardens Children’s House
X-ORIGINAL-URL:https://montessorigardens.com.au
X-WR-CALDESC:Events for Montessori Gardens Children’s House
BEGIN:VTIMEZONE
TZID:Australia/Perth
BEGIN:STANDARD
TZOFFSETFROM:+0800
TZOFFSETTO:+0800
TZNAME:AWST
DTSTART:20180101T000000
END:STANDARD
END:VTIMEZONE
BEGIN:VEVENT
DTSTART;TZID=Australia/Perth:20181208T100000
DTEND;TZID=Australia/Perth:20181208T120000
DTSTAMP:20210224T151840
CREATED:20180822T045817Z
LAST-MODIFIED:20180822T045817Z
UID:568-1544263200-1544270400@montessorigardens.com.au
SUMMARY:End of year Concert
DESCRIPTION:
URL:https://montessorigardens.com.au/event/end-of-year-concert/
END:VEVENT
END:VCALENDAR